BEGIN:VCALENDAR
VERSION:2.0
PRODID:-//Zentralwerkstatt Pfännerhall//NONSGML kigkonsult.se iCalcreator 2.41.92//
CALSCALE:GREGORIAN
METHOD:PUBLISH
UID:64363465-3530-4434-a438-303534336138
X-WR-CALNAME:iCagenda
X-WR-CALDESC:Event Management Extension for Joomla!
X-WR-RELCALID:3E26604A-50F4-4449-8B3E-E4F4932D05B5
X-WR-TIMEZONE:Europe/Berlin
BEGIN:VTIMEZONE
TZID:Europe/Berlin
TZUNTIL:20271031T010000Z
BEGIN:STANDARD
TZNAME:CET
DTSTART:20251026T030000
TZOFFSETFROM:+0200
TZOFFSETTO:+0100
RDATE:20261025T030000
END:STANDARD
BEGIN:DAYLIGHT
TZNAME:CEST
DTSTART:20250330T020000
TZOFFSETFROM:+0100
TZOFFSETTO:+0200
RDATE:20260329T020000
RDATE:20270328T020000
END:DAYLIGHT
END:VTIMEZONE
BEGIN:VEVENT
UID:64663361-3137-4533-a136-346666373066
DTSTAMP:20260420T044627Z
CATEGORIES:Geiseltal Café
CLASS:PUBLIC
DESCRIPTION;ALTREP="CID:<FFFF__=0ABBE548DFE235B58f9e8a93d@coffeebean.com>":
 ausverkauft\nModeration: Holger Schmidt
DTSTART:20260227T133000Z
DTEND:20260227T133000Z
GEO:00;0
LOCATION:Geiseltal Café
ORGANIZER;CN=:mailto:info@geiseltal-cafe.de
SEQUENCE:1
SUMMARY:Filmvorführung Kaffee aus Vietnam
TRANSP:OPAQUE
URL:https://pfaennerhall-geiseltal.de/index.php/veranstaltungen/filmvorfueh
 rung-kaffee-aus-vietnam/2026-02-27-14-30
END:VEVENT
END:VCALENDAR
