BEGIN:VCALENDAR
VERSION:2.0
PRODID:-//Zentralwerkstatt Pfännerhall//NONSGML kigkonsult.se iCalcreator 2.41.92//
CALSCALE:GREGORIAN
METHOD:PUBLISH
UID:35636163-6131-4862-b436-313766613065
X-WR-CALNAME:iCagenda
X-WR-CALDESC:Event Management Extension for Joomla!
X-WR-RELCALID:3E26604A-50F4-4449-8B3E-E4F4932D05B5
X-WR-TIMEZONE:Europe/Berlin
BEGIN:VTIMEZONE
TZID:Europe/Berlin
TZUNTIL:20280326T010000Z
BEGIN:STANDARD
TZNAME:CET
DTSTART:20251026T030000
TZOFFSETFROM:+0200
TZOFFSETTO:+0100
RDATE:20261025T030000
RDATE:20271031T030000
END:STANDARD
BEGIN:DAYLIGHT
TZNAME:CEST
DTSTART:20260329T020000
TZOFFSETFROM:+0100
TZOFFSETTO:+0200
RDATE:20270328T020000
END:DAYLIGHT
END:VTIMEZONE
BEGIN:VEVENT
UID:63386163-3835-4731-b661-396165666233
DTSTAMP:20260420T023349Z
CATEGORIES:externe Veranstalter
CLASS:PUBLIC
DESCRIPTION:
DTSTART:20260502T080000Z
DTEND:20260502T140000Z
GEO:00;0
LOCATION:Pfännerhall
ORGANIZER:
SEQUENCE:1
SUMMARY:Flohmarkt
TRANSP:OPAQUE
URL:https://pfaennerhall-geiseltal.de/index.php/veranstaltungen/flohmarkt
END:VEVENT
END:VCALENDAR
