BEGIN:VCALENDAR
VERSION:2.0
PRODID:-//Zentralwerkstatt Pfännerhall//NONSGML kigkonsult.se iCalcreator 2.41.92//
CALSCALE:GREGORIAN
METHOD:PUBLISH
UID:63633430-6131-4638-a265-343762646463
X-WR-CALNAME:iCagenda
X-WR-CALDESC:Event Management Extension for Joomla!
X-WR-RELCALID:3E26604A-50F4-4449-8B3E-E4F4932D05B5
X-WR-TIMEZONE:Europe/Berlin
BEGIN:VTIMEZONE
TZID:Europe/Berlin
TZUNTIL:20271031T010000Z
BEGIN:STANDARD
TZNAME:CET
DTSTART:20251026T030000
TZOFFSETFROM:+0200
TZOFFSETTO:+0100
RDATE:20261025T030000
END:STANDARD
BEGIN:DAYLIGHT
TZNAME:CEST
DTSTART:20250330T020000
TZOFFSETFROM:+0100
TZOFFSETTO:+0200
RDATE:20260329T020000
RDATE:20270328T020000
END:DAYLIGHT
END:VTIMEZONE
BEGIN:VEVENT
UID:66646334-6435-4537-b964-663438323264
DTSTAMP:20260420T060423Z
CATEGORIES:externe Veranstalter
CLASS:PUBLIC
DESCRIPTION;ALTREP="CID:<FFFF__=0ABBE548DFE235B58f9e8a93d@coffeebean.com>":
 \nAm 01.März 2026 lädt die Pfännerhalle in Braunsbedra zu einem besonderen
  Highlight ein:der etwas anderen Vertriebsmesse 2026. Mehr als 10 Unterneh
 men aus den Bereichen Haushalt\, Beauty\, Gesundheit\, Wellness und Lifest
 yle stellen hier ihre Produkte\, Services und modernen Vertriebskonzepte v
 or. Besucherinnen und Besucher haben die Möglichkeit\, Neues zu entdecken\
 , auszuprobieren und wertvolle Kontakte zu knüpfen.Die Messe richtet sich 
 sowohl an neugierige Konsumenten als auch an Menschen\, die offen für neue
  berufliche Perspektiven\, Vertriebspartnerschaften oder innovative Produk
 tlösungen sind. Von nachhaltigen Haushaltsprodukten über hochwertige Natur
 kosmetik bis hin zu modernen Gesundheits- und Wellnessideen ist für jeden 
 Geschmack etwas dabei.\n✨ Ein Event für alle SinneFreuen Sie sich auf ein 
 vielseitiges Programm mit Live-Vorführungen\, Produkttests\, Gewinnspielen
  und attraktiven Messe-Specials. Viele Aussteller laden dazu ein\, ihre Pr
 odukte direkt vor Ort kennenzulernen – vom pflegenden Naturprodukt über pr
 aktische Küchenhelfer bis hin zu innovativen Wellness-Neuheiten.\n💬 Persön
 licher Austausch steht im Mittelpunkt„Diese Messe lebt von Begegnungen und
  persönlichem Kontakt“\, so die Veranstalter. Die Aussteller nehmen sich Z
 eit für individuelle Beratung und zeigen\, wie vielfältig und zeitgemäß Di
 rektvertrieb heute sein kann.Neben bekannten Marken präsentieren sich auch
  zahlreiche kleinere\, inhabergeführte Unternehmen\, die mit Leidenschaft\
 , Kreativität und neuen Ideen im Direktvertrieb überzeugen. Ein besonderer
  Fokus liegt dabei auf regionalen Produkten sowie nachhaltigen Alternative
 n für Haushalt und Pflege.\n🤝 Netzwerken ausdrücklich erwünschtAuch für Ve
 rtriebspartner und Brancheninteressierte bietet die Messe spannende Impuls
 e. Wer sich für den Direktvertrieb interessiert oder neue Wege sucht\, fin
 det hier die ideale Gelegenheit\, Kontakte zu knüpfen\, Inspiration zu sam
 meln und vielleicht den ersten Schritt in eine neue Richtung zu gehen.
DTSTART:20260301T100000Z
DTEND:20260301T100000Z
GEO:00;0
LOCATION:Zentralwerkstatt Pfännerhall
ORGANIZER:
SEQUENCE:1
SUMMARY:Frühlingsmarkt in der Pfännerhall
TRANSP:OPAQUE
URL:https://pfaennerhall-geiseltal.de/index.php/veranstaltungen/fruehlingsm
 arkt-in-der-pfaennerhall/2026-03-01-11-00
END:VEVENT
END:VCALENDAR
