BEGIN:VCALENDAR
VERSION:2.0
PRODID:-//Zentralwerkstatt Pfännerhall//NONSGML kigkonsult.se iCalcreator 2.41.92//
CALSCALE:GREGORIAN
METHOD:PUBLISH
UID:35373564-3461-4232-a339-633032623665
X-WR-CALNAME:iCagenda
X-WR-CALDESC:Event Management Extension for Joomla!
X-WR-RELCALID:3E26604A-50F4-4449-8B3E-E4F4932D05B5
X-WR-TIMEZONE:Europe/Berlin
BEGIN:VTIMEZONE
TZID:Europe/Berlin
TZUNTIL:20271031T010000Z
BEGIN:STANDARD
TZNAME:CET
DTSTART:20251026T030000
TZOFFSETFROM:+0200
TZOFFSETTO:+0100
RDATE:20261025T030000
END:STANDARD
BEGIN:DAYLIGHT
TZNAME:CEST
DTSTART:20250330T020000
TZOFFSETFROM:+0100
TZOFFSETTO:+0200
RDATE:20260329T020000
RDATE:20270328T020000
END:DAYLIGHT
END:VTIMEZONE
BEGIN:VEVENT
UID:36643631-6137-4533-b935-633936663039
DTSTAMP:20260420T044212Z
CATEGORIES:externe Veranstalter
CLASS:PUBLIC
DESCRIPTION:
DTSTART:20260228T090000Z
DTEND:20260228T150000Z
GEO:+51.150543;+11.817788
LOCATION:Autohaus Possögel in Naumburg
ORGANIZER;CN=:mailto:info@autohaus-possoegel.com
SEQUENCE:1
SUMMARY:Hochzeitsmesse in Naumburg
TRANSP:OPAQUE
URL:https://pfaennerhall-geiseltal.de/index.php/veranstaltungen/hochzeitsme
 sse-in-naumburg
END:VEVENT
END:VCALENDAR
