BEGIN:VCALENDAR
VERSION:2.0
PRODID:-//Zentralwerkstatt Pfännerhall//NONSGML kigkonsult.se iCalcreator 2.41.92//
CALSCALE:GREGORIAN
METHOD:PUBLISH
UID:34326235-3563-4937-b338-333339353432
X-WR-CALNAME:iCagenda
X-WR-CALDESC:Event Management Extension for Joomla!
X-WR-RELCALID:3E26604A-50F4-4449-8B3E-E4F4932D05B5
X-WR-TIMEZONE:Europe/Berlin
BEGIN:VTIMEZONE
TZID:Europe/Berlin
TZUNTIL:20281029T010000Z
BEGIN:STANDARD
TZNAME:CET
DTSTART:20261025T030000
TZOFFSETFROM:+0200
TZOFFSETTO:+0100
RDATE:20271031T030000
END:STANDARD
BEGIN:DAYLIGHT
TZNAME:CEST
DTSTART:20260329T020000
TZOFFSETFROM:+0100
TZOFFSETTO:+0200
RDATE:20270328T020000
RDATE:20280326T020000
END:DAYLIGHT
END:VTIMEZONE
BEGIN:VEVENT
UID:63613636-6364-4130-a562-353132613435
DTSTAMP:20260420T041227Z
CATEGORIES:Geiseltal Café
CLASS:PUBLIC
DESCRIPTION:
DTSTART:20261115T110000Z
DTEND:20261115T133000Z
GEO:00;0
LOCATION:
ORGANIZER:
SEQUENCE:1
SUMMARY:Martinsganzessen
TRANSP:OPAQUE
URL:https://pfaennerhall-geiseltal.de/index.php/veranstaltungen/martinsganz
 essen
END:VEVENT
END:VCALENDAR
